BEGIN:VCALENDAR
VERSION:2.0
PRODID:-//ExpressionEngine Easy iCalendar plugin//NONSGML v2.0.0//EN
X-WR-TIMEZONE:America/Chicago
X-WR-CALNAME:Upcoming Auctions
BEGIN:VEVENT
UID:112765
DTSTAMP:20240726T193000
DTSTART:20240726T193000
DTEND:20240726T203000
SUMMARY:Annual Golf Calcutta Auction
LOCATION:6415 N. National Drive\, Kansas City\, MO 64152\, US
DESCRIPTION:Annual Golf Calcutta Auction | The Deuce at the National Go
 lf Club of Kansas City
URL:https://www.auctionskc.com/auctions/detail/bw112765
SEQUENCE:1
END:VEVENT
END:VCALENDAR