BEGIN:VCALENDAR
VERSION:2.0
PRODID:-//ExpressionEngine Easy iCalendar plugin//NONSGML v2.0.0//EN
X-WR-TIMEZONE:America/Chicago
X-WR-CALNAME:Upcoming Auctions
BEGIN:VEVENT
UID:112862
DTSTAMP:20240101T110000
DTSTART:20240101T110000
DTEND:20240101T120000
SUMMARY:Annual New Year's Day Consignment/Estate Auction
LOCATION:1235 N. 3rd Street\, Lawrence\, KS 66044\, US
DESCRIPTION:Accepting Consignments Now! | Vehicles\, Many Antiques & Co
 llectibles\, Antique Furniture\, Firearms\, Coins\, Fine Jewelry
 \, Saddles\, Home Decor\, & Much More!
URL:https://www.auctionskc.com/auctions/detail/bw112862
SEQUENCE:1
END:VEVENT
END:VCALENDAR