BEGIN:VCALENDAR
VERSION:2.0
PRODID:-//ExpressionEngine Easy iCalendar plugin//NONSGML v2.0.0//EN
X-WR-TIMEZONE:America/Chicago
X-WR-CALNAME:Upcoming Auctions
BEGIN:VEVENT
UID:113116
DTSTAMP:20240204T110000
DTSTART:20240204T110000
DTEND:20240204T120000
SUMMARY:LIVING ESTATE AUCTION
LOCATION:624 W. Wilson Street\, Ottawa\, KS 66067\, US
DESCRIPTION:Donna Bitterman Living Estate | Lifetime Collections of Ant
 iques & Collectibles\, Glassware\, Large Fiesta Ware Collectio
 n\, Sterling\, Sewing/Crafting\, Quilts\, Home Decor\, Household 
 Goods\, & Much More!
URL:https://www.auctionskc.com/auctions/detail/bw113116
SEQUENCE:1
END:VEVENT
END:VCALENDAR