BEGIN:VCALENDAR
VERSION:2.0
PRODID:-//ExpressionEngine Easy iCalendar plugin//NONSGML v2.0.0//EN
X-WR-TIMEZONE:America/Chicago
X-WR-CALNAME:Upcoming Auctions
BEGIN:VEVENT
UID:113120
DTSTAMP:20240218T110000
DTSTART:20240218T110000
DTEND:20240218T120000
SUMMARY:INCREDIBLE ESTATE AUCTION
LOCATION:15730 Fairgrounds Road\, Platte City\, MO 64079\, US
DESCRIPTION:Coming Soon! | Lifetime Collection of Antiques & Collectible
 s\, Antique Furniture\, Clocks\, Glassware\, Primitives\, & Much 
 More!
URL:https://www.auctionskc.com/auctions/detail/bw113120
SEQUENCE:1
END:VEVENT
END:VCALENDAR