BEGIN:VCALENDAR
VERSION:2.0
PRODID:-//ExpressionEngine Easy iCalendar plugin//NONSGML v2.0.1//EN
X-WR-TIMEZONE:America/Chicago
X-WR-CALNAME:Upcoming Auctions
BEGIN:VEVENT
UID:113121
DTSTAMP:20240429T190000
DTSTART:20240429T190000
DTEND:20240429T200000
SUMMARY:Crop Insurance Professionals Association Annual Fundraising 
 Auction
LOCATION:1515 Wyandotte Street\, Kansas City\, MO 64108\, US
DESCRIPTION:Crop Insurance Professionals Association | Annual Fundraisin
 g Auction  
URL:https://www.auctionskc.com/auctions/detail/bw113121
SEQUENCE:1
END:VEVENT
END:VCALENDAR