BEGIN:VCALENDAR
VERSION:2.0
PRODID:-//ExpressionEngine Easy iCalendar plugin//NONSGML v2.0.1//EN
X-WR-TIMEZONE:America/Chicago
X-WR-CALNAME:Upcoming Auctions
BEGIN:VEVENT
UID:113315
DTSTAMP:20240203T183000
DTSTART:20240203T183000
DTEND:20240203T193000
SUMMARY:Holy Cross Catholic School Annual Fundraising Auction
LOCATION:8101 W. 95th Street\, Overland Park\, KS 66212\, US
DESCRIPTION:Holy Cross Catholic School | "Be The Light" Annual Benefit A
 uction
URL:https://www.auctionskc.com/auctions/detail/bw113315
SEQUENCE:1
END:VEVENT
END:VCALENDAR