BEGIN:VCALENDAR
VERSION:2.0
PRODID:-//ExpressionEngine Easy iCalendar plugin//NONSGML v2.0.1//EN
X-WR-TIMEZONE:America/Chicago
X-WR-CALNAME:Upcoming Auctions
BEGIN:VEVENT
UID:114470
DTSTAMP:20240202T161500
DTSTART:20240202T161500
DTEND:20240202T171500
SUMMARY:TRUSTEE ORDERED AUCTION
LOCATION:5924 N. Liston Court\, Kansas City\, MO 64151\, US
DESCRIPTION:Mary Nell Donoho\, Jr. Trust | High End Furniture\, Art\, Col
 lectibles\, Home Decor\, Electronics\, Tools\, Household Goods\, 
 & Much More!
URL:https://www.auctionskc.com/auctions/detail/bw114470
SEQUENCE:1
END:VEVENT
END:VCALENDAR