BEGIN:VCALENDAR
VERSION:2.0
PRODID:-//ExpressionEngine Easy iCalendar plugin//NONSGML v2.0.0//EN
X-WR-TIMEZONE:America/Chicago
X-WR-CALNAME:Upcoming Auctions
BEGIN:VEVENT
UID:114904
DTSTAMP:20240212T160000
DTSTART:20240212T160000
DTEND:20240212T170000
SUMMARY:NEW DATE! LIVING ESTATE AUCTION
LOCATION:7 The Woodlands Drive\, Gladstone\, MO 64119\, US
DESCRIPTION:Robert & Mary Coe Living Estate | Fine Jewelry\, Gold Coins\, 
 Antiques & Collectibles\, Furniture\, Tools\, Home Decor\, Hous
 ehold Goods\, & Much More!
URL:https://www.auctionskc.com/auctions/detail/bw114904
SEQUENCE:1
END:VEVENT
END:VCALENDAR