BEGIN:VCALENDAR
VERSION:2.0
PRODID:-//ExpressionEngine Easy iCalendar plugin//NONSGML v2.0.0//EN
X-WR-TIMEZONE:America/Chicago
X-WR-CALNAME:Upcoming Auctions
BEGIN:VEVENT
UID:115334
DTSTAMP:20240217T103000
DTSTART:20240217T103000
DTEND:20240217T113000
SUMMARY:FANTASTIC LIVING ESTATE AUCTION
LOCATION:6511 SE Horseshoe Drive\, Holt\, MO 64048\, US
DESCRIPTION:Alex Baum Living Estate | Vehicles\, Trailers\, Boats\, ATV\, C
 ollectibles\, Furniture\, Automotive Items\, Appliances\, Tools
 \, Electronics\, Home Decor\, Household Goods\, & Much More!
URL:https://www.auctionskc.com/auctions/detail/bw115334
SEQUENCE:1
END:VEVENT
END:VCALENDAR