BEGIN:VCALENDAR
VERSION:2.0
PRODID:-//ExpressionEngine Easy iCalendar plugin//NONSGML v2.0.1//EN
X-WR-TIMEZONE:America/Chicago
X-WR-CALNAME:Upcoming Auctions
BEGIN:VEVENT
UID:116187
DTSTAMP:20240304T160000
DTSTART:20240304T160000
DTEND:20240304T170000
SUMMARY:ECLECTIC ESTATE AUCTION
LOCATION:4607 W. 72nd Terrace\, Prairie Village\, KS 66208\, US
DESCRIPTION:Donna Magee Estate | World Traveler's Furniture\, Collectibl
 es\, Home Decor\, Household Goods\, & Much More!
URL:https://www.auctionskc.com/auctions/detail/bw116187
SEQUENCE:1
END:VEVENT
END:VCALENDAR