BEGIN:VCALENDAR
VERSION:2.0
PRODID:-//ExpressionEngine Easy iCalendar plugin//NONSGML v2.0.0//EN
X-WR-TIMEZONE:America/Chicago
X-WR-CALNAME:Upcoming Auctions
BEGIN:VEVENT
UID:116238
DTSTAMP:20240531T170000
DTSTART:20240531T170000
DTEND:20240531T180000
SUMMARY:Jayhawk Chapter Ducks Unlimited Annual Banquet
LOCATION:1809 Birdie Way\, Lawrence\, KS 66047\, US
DESCRIPTION:Ducks Unlimited Jayhawk Chapter | Annual Fundraising Banquet
  Dinner & Auction
URL:https://www.auctionskc.com/auctions/detail/bw116238
SEQUENCE:1
END:VEVENT
END:VCALENDAR