BEGIN:VCALENDAR
VERSION:2.0
PRODID:-//ExpressionEngine Easy iCalendar plugin//NONSGML v2.0.0//EN
X-WR-TIMEZONE:America/Chicago
X-WR-CALNAME:Upcoming Auctions
BEGIN:VEVENT
UID:116344
DTSTAMP:20240322T180000
DTSTART:20240322T180000
DTEND:20240322T190000
SUMMARY:Woolly Farms Foundation Annual Spring Gala
LOCATION:6410 SE Forbes Avenue #2\, Topeka\, KS 66619\, US
DESCRIPTION:Woolly Farms Foundation | Annual Spring Gala & Auction
URL:https://www.auctionskc.com/auctions/detail/bw116344
SEQUENCE:1
END:VEVENT
END:VCALENDAR