BEGIN:VCALENDAR
VERSION:2.0
PRODID:-//ExpressionEngine Easy iCalendar plugin//NONSGML v2.0.0//EN
X-WR-TIMEZONE:America/Chicago
X-WR-CALNAME:Upcoming Auctions
BEGIN:VEVENT
UID:116350
DTSTAMP:20240310T110000
DTSTART:20240310T110000
DTEND:20240310T120000
SUMMARY:UNUSUAL & INCREDIBLE ESTATE AUCTION
LOCATION:610 Shepherd Road\, Liberty\, MO 64068\, US
DESCRIPTION:Patricia "Patti" Bolls Nassaum Estate | Lifetime Collections
  of Antiques\, Collectibles\, Jewelry\, Silver\, Coins\, Art\, Fur
 niture\, Home Decor\, Household Goods\, & Much More!
URL:https://www.auctionskc.com/auctions/detail/bw116350
SEQUENCE:1
END:VEVENT
END:VCALENDAR