BEGIN:VCALENDAR
VERSION:2.0
PRODID:-//ExpressionEngine Easy iCalendar plugin//NONSGML v2.0.1//EN
X-WR-TIMEZONE:America/Chicago
X-WR-CALNAME:Upcoming Auctions
BEGIN:VEVENT
UID:116414
DTSTAMP:20240322T103000
DTSTART:20240322T103000
DTEND:20240322T113000
SUMMARY:LANDSCAPING COMPANY BUSINESS LIQUIDATION AUCTION
LOCATION:15130 S. Keeler Street\, Olathe\, KS 66062\, US
DESCRIPTION:Environmental Turf & Tree\, LLC. | Trucks\, Trailers\, Snow Re
 moval Equipment\, Shop Tools\, Office Furniture & Equipment\, &
  Much More!
URL:https://www.auctionskc.com/auctions/detail/bw116414
SEQUENCE:1
END:VEVENT
END:VCALENDAR