BEGIN:VCALENDAR
VERSION:2.0
PRODID:-//ExpressionEngine Easy iCalendar plugin//NONSGML v2.0.1//EN
X-WR-TIMEZONE:America/Chicago
X-WR-CALNAME:Upcoming Auctions
BEGIN:VEVENT
UID:116420
DTSTAMP:20240406T103000
DTSTART:20240406T103000
DTEND:20240406T113000
SUMMARY:UNIMAGINABLE 2-RING LIVING ESTATE AUCTION
LOCATION:500 NW Holly Lane\, Lee's Summit\, MO 64086\, US
DESCRIPTION:Agapito Hernandez Living Estate | Trailers\, Lawn Tractors\, T
 ons of Tools\, Shop Equipment\, Furniture\, Collectibles\, Home 
 Decor\, Many NIB Items\, Household Goods\, & Much More!
URL:https://www.auctionskc.com/auctions/detail/bw116420
SEQUENCE:1
END:VEVENT
END:VCALENDAR