BEGIN:VCALENDAR
VERSION:2.0
PRODID:-//ExpressionEngine Easy iCalendar plugin//NONSGML v2.0.0//EN
X-WR-TIMEZONE:America/Chicago
X-WR-CALNAME:Upcoming Auctions
BEGIN:VEVENT
UID:116465
DTSTAMP:20240312T160000
DTSTART:20240312T160000
DTEND:20240312T170000
SUMMARY:ESTATE AUCTION
LOCATION:8420 N. Carson Avenue\, Kansas City\, MO 64153\, US
DESCRIPTION:Phyllis Gonczar Estate | Collectibles\, Asian Items\, Jewelry
 \, Furniture\, Tools\, Major Appliances\, Yard Art\, Home Decor\,
  Household Goods\, & Much More!
URL:https://www.auctionskc.com/auctions/detail/bw116465
SEQUENCE:1
END:VEVENT
END:VCALENDAR