BEGIN:VCALENDAR
VERSION:2.0
PRODID:-//ExpressionEngine Easy iCalendar plugin//NONSGML v2.0.0//EN
X-WR-TIMEZONE:America/Chicago
X-WR-CALNAME:Upcoming Auctions
BEGIN:VEVENT
UID:116466
DTSTAMP:20240315T170000
DTSTART:20240315T170000
DTEND:20240315T180000
SUMMARY:TRUST ORDERED ESTATE AUCTION
LOCATION:3902 Westgate Drive\, St. Joseph\, MO 64506\, US
DESCRIPTION:Donnis L. & Mabel Joy Hood Trust | Vehicle\, Antiques\, Coll
 ectibles\, Vintage\, Jewelry\, Coins\, Furniture\, Home Decor\, Ho
 usehold Goods\, & Much More!
URL:https://www.auctionskc.com/auctions/detail/bw116466
SEQUENCE:1
END:VEVENT
END:VCALENDAR