BEGIN:VCALENDAR
VERSION:2.0
PRODID:-//ExpressionEngine Easy iCalendar plugin//NONSGML v2.0.0//EN
X-WR-TIMEZONE:America/Chicago
X-WR-CALNAME:Upcoming Auctions
BEGIN:VEVENT
UID:116488
DTSTAMP:20240318T153000
DTSTART:20240318T153000
DTEND:20240318T163000
SUMMARY:ESTATE AUCTION
LOCATION:1 W. 89th Street\, Kansas City\, MO 64114\, US
DESCRIPTION:Clara Bolton Estate | Antiques\, Collectibles\, Furniture\, Hom
 e Decor\, Major Appliances\, Tools\, Household Goods\, & Much M
 ore!
URL:https://www.auctionskc.com/auctions/detail/bw116488
SEQUENCE:1
END:VEVENT
END:VCALENDAR