BEGIN:VCALENDAR
VERSION:2.0
PRODID:-//ExpressionEngine Easy iCalendar plugin//NONSGML v2.0.0//EN
X-WR-TIMEZONE:America/Chicago
X-WR-CALNAME:Upcoming Auctions
BEGIN:VEVENT
UID:117610
DTSTAMP:20240427T170000
DTSTART:20240427T170000
DTEND:20240427T180000
SUMMARY:St. Regis Academy Annual Luau Benefit Gala Auction
LOCATION:2901 Lee's Summit Road\, Lee's Summit\, MO 64064\, US
DESCRIPTION:St. Regis Academy | 11th Annual Fundraising Luau Gala Auctio
 n
URL:https://www.auctionskc.com/auctions/detail/bw117610
SEQUENCE:1
END:VEVENT
END:VCALENDAR