BEGIN:VCALENDAR
VERSION:2.0
PRODID:-//ExpressionEngine Easy iCalendar plugin//NONSGML v2.0.0//EN
X-WR-TIMEZONE:America/Chicago
X-WR-CALNAME:Upcoming Auctions
BEGIN:VEVENT
UID:117650
DTSTAMP:20240325T160000
DTSTART:20240325T160000
DTEND:20240325T170000
SUMMARY:UPSCALE LIVING ESTATE AUCTION
LOCATION:314 E. Bridlespur Drive\, Kansas City\, MO 64114\, US
DESCRIPTION:Jo Ellen Hudson Living Estate | Collectibles\, Furniture\, Too
 ls\, Major Appliances\, Home Decor\, Household Goods\, & Much Mo
 re!
URL:https://www.auctionskc.com/auctions/detail/bw117650
SEQUENCE:1
END:VEVENT
END:VCALENDAR