BEGIN:VCALENDAR
VERSION:2.0
PRODID:-//ExpressionEngine Easy iCalendar plugin//NONSGML v2.0.1//EN
X-WR-TIMEZONE:America/Chicago
X-WR-CALNAME:Upcoming Auctions
BEGIN:VEVENT
UID:117709
DTSTAMP:20240330T103000
DTSTART:20240330T103000
DTEND:20240330T113000
SUMMARY:REAL ESTATE & PERSONAL PROPERTY AUCTION
LOCATION:6005 Claremont Avenue\, Raytown\, MO 64133\, US
DESCRIPTION:Sally Jo Cowan Estate | Real Estate\, Vehicles\, Collectibles
 \, Furniture\, Tons of Tools\, Shop Equipment\, Hunting\, Home D
 ecor\, Yard Art\, Household Goods\, & Much More!
URL:https://www.auctionskc.com/auctions/detail/bw117709
SEQUENCE:1
END:VEVENT
END:VCALENDAR