BEGIN:VCALENDAR
VERSION:2.0
PRODID:-//ExpressionEngine Easy iCalendar plugin//NONSGML v2.0.0//EN
X-WR-TIMEZONE:America/Chicago
X-WR-CALNAME:Upcoming Auctions
BEGIN:VEVENT
UID:118469
DTSTAMP:20240411T183000
DTSTART:20240411T183000
DTEND:20240411T193000
SUMMARY:REAL ESTATE AUCTION
LOCATION:500 NW Holly Lane\, Lee's Summit\, MO 64086\, US
DESCRIPTION:Agapito Hernandez Living Estate | 3 Bedroom\, 2 Bath Home on
  Large Lot in Lee's Summit
URL:https://www.auctionskc.com/auctions/detail/bw118469
SEQUENCE:1
END:VEVENT
END:VCALENDAR