BEGIN:VCALENDAR
VERSION:2.0
PRODID:-//ExpressionEngine Easy iCalendar plugin//NONSGML v2.0.1//EN
X-WR-TIMEZONE:America/Chicago
X-WR-CALNAME:Upcoming Auctions
BEGIN:VEVENT
UID:118482
DTSTAMP:20240412T163000
DTSTART:20240412T163000
DTEND:20240412T173000
SUMMARY:EMERGENCY LAST MINUTE LIVING ESTATE AUCTION
LOCATION:4139 NE Kelsey Road\, Kansas City\, MO 64116\, US
DESCRIPTION:Rebecca Blackwell & Ian Lovelace Living Estate | Truck\, Lawn
  Tractor\, Collectibles\, Jewelry\, Furniture\, Tools\, Home Dec
 or\, Household Goods\, & Much More!
URL:https://www.auctionskc.com/auctions/detail/bw118482
SEQUENCE:1
END:VEVENT
END:VCALENDAR