BEGIN:VCALENDAR
VERSION:2.0
PRODID:-//ExpressionEngine Easy iCalendar plugin//NONSGML v2.0.0//EN
X-WR-TIMEZONE:America/Chicago
X-WR-CALNAME:Upcoming Auctions
BEGIN:VEVENT
UID:118804
DTSTAMP:20240419T163000
DTSTART:20240419T163000
DTEND:20240419T173000
SUMMARY:REAL ESTATE & PERSONAL PROPERTY AUCTION
LOCATION:1901 S. Yuma Court\, Independence\, MO 64057\, US
DESCRIPTION:Nancy LaGrece Estate | Move-In Ready 2 Bedroom Villa Plus An
 tiques\, Collectibles\, Furniture\, Tools\, Major Appliances\, Ho
 me Decor\, Household Goods\, & Much More!
URL:https://www.auctionskc.com/auctions/detail/bw118804
SEQUENCE:1
END:VEVENT
END:VCALENDAR