BEGIN:VCALENDAR
VERSION:2.0
PRODID:-//ExpressionEngine Easy iCalendar plugin//NONSGML v2.0.0//EN
X-WR-TIMEZONE:America/Chicago
X-WR-CALNAME:Upcoming Auctions
BEGIN:VEVENT
UID:118828
DTSTAMP:20240505T110000
DTSTART:20240505T110000
DTEND:20240505T120000
SUMMARY:ESTATE AUCTION
LOCATION:8101 SE U.S. Highway 169\, St. Joseph\, MO 64507\, US
DESCRIPTION:Betty I. Canter Estate | Horse Trailer\, Antiques\, Collectibl
 es\, Collections\, Jewelry\, Coins\, Furniture\, Tools\, Yard Ar
 t\, Home Decor\, Household Goods\, & Much More!
URL:https://www.auctionskc.com/auctions/detail/bw118828
SEQUENCE:1
END:VEVENT
END:VCALENDAR