BEGIN:VCALENDAR
VERSION:2.0
PRODID:-//ExpressionEngine Easy iCalendar plugin//NONSGML v2.0.1//EN
X-WR-TIMEZONE:America/Chicago
X-WR-CALNAME:Upcoming Auctions
BEGIN:VEVENT
UID:118830
DTSTAMP:20240422T173000
DTSTART:20240422T173000
DTEND:20240422T183000
SUMMARY:ESTATE AUCTION
LOCATION:5400 NE 92nd Street\, Kansas City\, MO 64156\, US
DESCRIPTION:Walter "Walt" Jordon Estate | Vehicle\, Lawn Tractor\, Golf 
 Cart\, Firearms\, Furniture\, Tools\, Yard Art\, Home Decor\, Hous
 ehold Goods\, & Much More!
URL:https://www.auctionskc.com/auctions/detail/bw118830
SEQUENCE:1
END:VEVENT
END:VCALENDAR