BEGIN:VCALENDAR
VERSION:2.0
PRODID:-//ExpressionEngine Easy iCalendar plugin//NONSGML v2.0.0//EN
X-WR-TIMEZONE:America/Chicago
X-WR-CALNAME:Upcoming Auctions
BEGIN:VEVENT
UID:118833
DTSTAMP:20240518T103000
DTSTART:20240518T103000
DTEND:20240518T113000
SUMMARY:LUXURY REAL ESTATE & PERSONAL PROPERTY AUCTION
LOCATION:1213 Kingsland Circle\, Raymore\, MO 64083\, US
DESCRIPTION:Doug & Brenda Anderson Living Estate | SELLERS HAVE ACCEP
 TED A PRE-AUCTION OFFER ON THE REAL ESTATE! PERSONAL PROPERT
 Y TO SELL AS SCHEDULED! Luxury 5 Bedroom Creekmoor Home Plu
 s Late Model Dodge Ram Truck\, Collectibles\, Furniture\, Tool
 s\, Major Appliances\, Yard Art\, Home Decor\, Household Goods\,
  & Much More!
URL:https://www.auctionskc.com/auctions/detail/bw118833
SEQUENCE:1
END:VEVENT
END:VCALENDAR