BEGIN:VCALENDAR
VERSION:2.0
PRODID:-//ExpressionEngine Easy iCalendar plugin//NONSGML v2.0.0//EN
X-WR-TIMEZONE:America/Chicago
X-WR-CALNAME:Upcoming Auctions
BEGIN:VEVENT
UID:118923
DTSTAMP:20240427T100000
DTSTART:20240427T100000
DTEND:20240427T110000
SUMMARY:HUGE 2-RING FARM AUCTION
LOCATION:28700 Walker Road\, Harrisonville\, MO 64701\, US
DESCRIPTION:Russ "Dusty" & Christine Smith Living Estate | Trucks\, Fork
 lift\, Tractors\, Boats\, Motorcycles\, Trailers\, Tons of Tool
 s\, Shop Equipment\, Firearms\, Collectibles\, Building Materia
 ls\, Farm Items\, Home Decor\, Household Goods\, & Much More!
URL:https://www.auctionskc.com/auctions/detail/bw118923
SEQUENCE:1
END:VEVENT
END:VCALENDAR