BEGIN:VCALENDAR
VERSION:2.0
PRODID:-//ExpressionEngine Easy iCalendar plugin//NONSGML v2.0.0//EN
X-WR-TIMEZONE:America/Chicago
X-WR-CALNAME:Upcoming Auctions
BEGIN:VEVENT
UID:118931
DTSTAMP:20240511T103000
DTSTART:20240511T103000
DTEND:20240511T113000
SUMMARY:MEGA 2-RING ESTATE AUCTION
LOCATION:901 Metropolitan Avenue\, Leavenworth\, KS 66048\, US
DESCRIPTION:Herbert Eugene Mayfield\, Jr. Estate | Classic Vehicles\, Anti
 que Furniture\, Many Collections of Antiques & Collectibles\,Â
  Tons of Tools\, Yard Art\, Home Decor\, Household Goods\, & Muc
 h More!
URL:https://www.auctionskc.com/auctions/detail/bw118931
SEQUENCE:1
END:VEVENT
END:VCALENDAR