BEGIN:VCALENDAR
VERSION:2.0
PRODID:-//ExpressionEngine Easy iCalendar plugin//NONSGML v2.0.0//EN
X-WR-TIMEZONE:America/Chicago
X-WR-CALNAME:Upcoming Auctions
BEGIN:VEVENT
UID:118938
DTSTAMP:20240519T110000
DTSTART:20240519T110000
DTEND:20240519T120000
SUMMARY:MEGA 2-RING ESTATE AUCTION
LOCATION:23107 MO-58\, Pleasant Hill\, MO 64080\, US
DESCRIPTION:Estate of Elden N. Arnold | Tons of Tools\, Fishing Gear\, Hu
 nting Items\, Reloading Equipment\, Primitives\, Antiques\, Coll
 ectibles\, Yard Art\, Home Decor\, Household Goods\, & Much More
 !
URL:https://www.auctionskc.com/auctions/detail/bw118938
SEQUENCE:1
END:VEVENT
END:VCALENDAR