BEGIN:VCALENDAR
VERSION:2.0
PRODID:-//ExpressionEngine Easy iCalendar plugin//NONSGML v2.0.0//EN
X-WR-TIMEZONE:America/Chicago
X-WR-CALNAME:Upcoming Auctions
BEGIN:VEVENT
UID:118939
DTSTAMP:20240623T110000
DTSTART:20240623T110000
DTEND:20240623T120000
SUMMARY:MASSIVE 2-RING ESTATE AUCTION
LOCATION:2415 E. 126th Street\, Kansas City\, MO 64146\, US
DESCRIPTION:William & Deloris Ray Estate | Lifetime Collections of Ant
 iques & Collectibles\, Jewelry\, Furniture\, Many Vintage Goods
 \, NIB Items\, Home Decor\, Household Goods\, & Much More!
URL:https://www.auctionskc.com/auctions/detail/bw118939
SEQUENCE:1
END:VEVENT
END:VCALENDAR