BEGIN:VCALENDAR
VERSION:2.0
PRODID:-//ExpressionEngine Easy iCalendar plugin//NONSGML v2.0.0//EN
X-WR-TIMEZONE:America/Chicago
X-WR-CALNAME:Upcoming Auctions
BEGIN:VEVENT
UID:118982
DTSTAMP:20240430T180000
DTSTART:20240430T180000
DTEND:20240430T190000
SUMMARY:ABSOLUTE ONLINE ONLY REAL ESTATE AUCTION
LOCATION:3003 E. 52nd Street\, Kansas City\, MO 64130\, US
DESCRIPTION:Clydia L. Andrews Estate | Absolute Auction: 2 Bedroom Kansa
 s City Home
URL:https://www.auctionskc.com/auctions/detail/bw118982
SEQUENCE:1
END:VEVENT
END:VCALENDAR