BEGIN:VCALENDAR
VERSION:2.0
PRODID:-//ExpressionEngine Easy iCalendar plugin//NONSGML v2.0.0//EN
X-WR-TIMEZONE:America/Chicago
X-WR-CALNAME:Upcoming Auctions
BEGIN:VEVENT
UID:119174
DTSTAMP:20240626T140000
DTSTART:20240626T140000
DTEND:20240626T150000
SUMMARY:PODS of Kansas City Storage Vault Auction
LOCATION:14220 Norby Road\, Grandview\, MO 64030\, US
DESCRIPTION:PODS of Kansas City | 23+/- Units to be sold to the highest 
 bidder regardless of selling price!
URL:https://www.auctionskc.com/auctions/detail/bw119174
SEQUENCE:1
END:VEVENT
END:VCALENDAR