BEGIN:VCALENDAR
VERSION:2.0
PRODID:-//ExpressionEngine Easy iCalendar plugin//NONSGML v2.0.0//EN
X-WR-TIMEZONE:America/Chicago
X-WR-CALNAME:Upcoming Auctions
BEGIN:VEVENT
UID:119479
DTSTAMP:20240507T180000
DTSTART:20240507T180000
DTEND:20240507T190000
SUMMARY:REAL ESTATE AUCTION
LOCATION:4818 N. Fremont Avenue\, Kansas City\, MO 64119\, US
DESCRIPTION:Sharp 3 Bedroom 2 Bath Raised Ranch in Quiet NKC Neighborhoo
 d!
URL:https://www.auctionskc.com/auctions/detail/bw119479
SEQUENCE:1
END:VEVENT
END:VCALENDAR