BEGIN:VCALENDAR
VERSION:2.0
PRODID:-//ExpressionEngine Easy iCalendar plugin//NONSGML v2.0.0//EN
X-WR-TIMEZONE:America/Chicago
X-WR-CALNAME:Upcoming Auctions
BEGIN:VEVENT
UID:121049
DTSTAMP:20240525T103000
DTSTART:20240525T103000
DTEND:20240525T113000
SUMMARY:AUCTION CANCELLED
LOCATION:23107 MO-58 Highway\, Pleasant Hill\, MO 64080\, US
DESCRIPTION:CANCELLED | Primitives\, Antiques\, Tons of Tools\, Lawn Mowers
 \, Shop Equipment\, Scrap Metal\, Household Goods\, & Much More!
URL:https://www.auctionskc.com/auctions/detail/bw121049
SEQUENCE:1
END:VEVENT
END:VCALENDAR