BEGIN:VCALENDAR
VERSION:2.0
PRODID:-//ExpressionEngine Easy iCalendar plugin//NONSGML v2.0.0//EN
X-WR-TIMEZONE:America/Chicago
X-WR-CALNAME:Upcoming Auctions
BEGIN:VEVENT
UID:121054
DTSTAMP:20240524T163000
DTSTART:20240524T163000
DTEND:20240524T173000
SUMMARY:REAL ESTATE & PERSONAL PROPERTY AUCTION
LOCATION:1310 Highgrove Road\, Grandview\, MO 64030\, US
DESCRIPTION:Patrick Oxler Estate | 3 Bedroom True Ranch on .56 Acre Lot 
 w/ Huge Outbuilding Plus Antiques\, Collectibles\, Furniture\, 
 Tools\, Appliances\, Yard Art\, Outdoor Items\, Home Decor\, Hous
 ehold Goods\, & Much More!
URL:https://www.auctionskc.com/auctions/detail/bw121054
SEQUENCE:1
END:VEVENT
END:VCALENDAR