BEGIN:VCALENDAR
VERSION:2.0
PRODID:-//ExpressionEngine Easy iCalendar plugin//NONSGML v2.0.0//EN
X-WR-TIMEZONE:America/Chicago
X-WR-CALNAME:Upcoming Auctions
BEGIN:VEVENT
UID:121103
DTSTAMP:20240527T110000
DTSTART:20240527T110000
DTEND:20240527T120000
SUMMARY:MEGA COLLECTOR'S ESTATE AUCTION
LOCATION:15730 Fairgrounds Road\, Platte City\, MO 64079\, US
DESCRIPTION:Jose | Antiques\, Collectibles\, Jewelry\, Coins\, Tools\, Home D
 ecor\, 100's of Box Lots\, Household Goods\, & Much More!
URL:https://www.auctionskc.com/auctions/detail/bw121103
SEQUENCE:1
END:VEVENT
END:VCALENDAR