BEGIN:VCALENDAR
VERSION:2.0
PRODID:-//ExpressionEngine Easy iCalendar plugin//NONSGML v2.0.0//EN
X-WR-TIMEZONE:America/Chicago
X-WR-CALNAME:Upcoming Auctions
BEGIN:VEVENT
UID:121686
DTSTAMP:20240604T173000
DTSTART:20240604T173000
DTEND:20240604T183000
SUMMARY:LIVING ESTATE AUCTION
LOCATION:9508 E. 30th Street South\, Independence\, MO 64052\, US
DESCRIPTION:Donna Hurst Living Estate | Furniture\, Appliances\, Collectib
 les\, Tools\, Lawn Tractor\, Home Decor\, Household Goods\, & Muc
 h More!
URL:https://www.auctionskc.com/auctions/detail/bw121686
SEQUENCE:1
END:VEVENT
END:VCALENDAR