BEGIN:VCALENDAR
VERSION:2.0
PRODID:-//ExpressionEngine Easy iCalendar plugin//NONSGML v2.0.0//EN
X-WR-TIMEZONE:America/Chicago
X-WR-CALNAME:Upcoming Auctions
BEGIN:VEVENT
UID:121746
DTSTAMP:20240609T110000
DTSTART:20240609T110000
DTEND:20240609T120000
SUMMARY:HUGE ESTATE AUCTION
LOCATION:2800 S. 63rd Street\, Kansas City\, KS 66106\, US
DESCRIPTION:Phillip & Carol Nash Estate | Vehicles\, Trailers\, Equipment\,
  Antiques & Collectibles\, Tools\, Appliances\, Furniture\, Scra
 p\, Home Decor\, Household Goods\, & Much More!
URL:https://www.auctionskc.com/auctions/detail/bw121746
SEQUENCE:1
END:VEVENT
END:VCALENDAR