BEGIN:VCALENDAR
VERSION:2.0
PRODID:-//ExpressionEngine Easy iCalendar plugin//NONSGML v2.0.0//EN
X-WR-TIMEZONE:America/Chicago
X-WR-CALNAME:Upcoming Auctions
BEGIN:VEVENT
UID:121755
DTSTAMP:20241012T120000
DTSTART:20241012T120000
DTEND:20241012T130000
SUMMARY:Annual Sunrise Project Fundraising Pie Auction
LOCATION:1501 Learnard Avenue\, Lawrence\, KS 66044\, US
DESCRIPTION:Sunrise Project | Annual Sunrise Project Fundraising Pie Auc
 tion
URL:https://www.auctionskc.com/auctions/detail/bw121755
SEQUENCE:1
END:VEVENT
END:VCALENDAR