BEGIN:VCALENDAR
VERSION:2.0
PRODID:-//ExpressionEngine Easy iCalendar plugin//NONSGML v2.0.0//EN
X-WR-TIMEZONE:America/Chicago
X-WR-CALNAME:Upcoming Auctions
BEGIN:VEVENT
UID:122001
DTSTAMP:20240611T160000
DTSTART:20240611T160000
DTEND:20240611T170000
SUMMARY:MEGA DOUBLE ESTATE AUCTION
LOCATION:521 S. Broadway Street\, Leavenworth\, KS 66048\, US
DESCRIPTION:Dwight Gillespie Estate | Antiques\, Collectibles\, Collection
 s: Dept. 56\, Fenton\, American Fostoria\, Tools\, Vintage\, Yard
  Art\, Home Decor\, Household Goods\, & Much More!
URL:https://www.auctionskc.com/auctions/detail/bw122001
SEQUENCE:1
END:VEVENT
END:VCALENDAR