BEGIN:VCALENDAR
VERSION:2.0
PRODID:-//ExpressionEngine Easy iCalendar plugin//NONSGML v2.0.0//EN
X-WR-TIMEZONE:America/Chicago
X-WR-CALNAME:Upcoming Auctions
BEGIN:VEVENT
UID:122055
DTSTAMP:20240709T163000
DTSTART:20240709T163000
DTEND:20240709T173000
SUMMARY:REAL ESTATE & PERSONAL PROPERTY AUCTION
LOCATION:7404 Willow Avenue\, Raytown\, MO 64133\, US
DESCRIPTION:Brian & Donna Hoops | Real Estate\, 02' Collector Camaro\, Sna
 p-On & Other Tools\, Collectibles\, Furniture\, Appliances\, Hom
 e Decor\, Household Goods\, & Much More!
URL:https://www.auctionskc.com/auctions/detail/bw122055
SEQUENCE:1
END:VEVENT
END:VCALENDAR