BEGIN:VCALENDAR
VERSION:2.0
PRODID:-//ExpressionEngine Easy iCalendar plugin//NONSGML v2.0.0//EN
X-WR-TIMEZONE:America/Chicago
X-WR-CALNAME:Upcoming Auctions
BEGIN:VEVENT
UID:122889
DTSTAMP:20240625T170000
DTSTART:20240625T170000
DTEND:20240625T180000
SUMMARY:VINTAGE TIME CAPSULE ESTATE AUCTION
LOCATION:9607 Reeder Street\, Overland Park\, KS 66214\, US
DESCRIPTION:Richard & Inez Yeargan Kaiser Estate | Collectibles\, Art\, Je
 welry\, Glassware\, Vintage & Antique Furniture\, Home Decor\, H
 ousehold Goods\, & Much More!
URL:https://www.auctionskc.com/auctions/detail/bw122889
SEQUENCE:1
END:VEVENT
END:VCALENDAR