BEGIN:VCALENDAR
VERSION:2.0
PRODID:-//ExpressionEngine Easy iCalendar plugin//NONSGML v2.0.0//EN
X-WR-TIMEZONE:America/Chicago
X-WR-CALNAME:Upcoming Auctions
BEGIN:VEVENT
UID:122897
DTSTAMP:20240629T110000
DTSTART:20240629T110000
DTEND:20240630T110000
SUMMARY:INCREDIBLE 2-DAY ESTATE AUCTION
LOCATION:2216 W. 50th Street\, Westwood Hills\, KS 66205\, US
DESCRIPTION:Dr. Larry G. Ehrlich Estate | Vehicles\, Lifetime Collections
  of Antiques & Collectibles\, Art\, Yard Art\, Jewelry\, Furnitu
 re\, Tools\, Home Decor\, Household Goods\, & Much More!
URL:https://www.auctionskc.com/auctions/detail/bw122897
SEQUENCE:1
END:VEVENT
END:VCALENDAR