BEGIN:VCALENDAR
VERSION:2.0
PRODID:-//ExpressionEngine Easy iCalendar plugin//NONSGML v2.0.0//EN
X-WR-TIMEZONE:America/Chicago
X-WR-CALNAME:Upcoming Auctions
BEGIN:VEVENT
UID:123182
DTSTAMP:20240701T173000
DTSTART:20240701T173000
DTEND:20240701T183000
SUMMARY:MID CENTURY LIVING ESTATE AUCTION
LOCATION:5304 N. Washington Street\, Kansas City\, MO 64118\, US
DESCRIPTION:Private Seller | House Full of Mid Century Furniture\, Collec
 tibles\, Home Decor\, Tools\, Yard Art\, Household Goods\, & Much
  More!
URL:https://www.auctionskc.com/auctions/detail/bw123182
SEQUENCE:1
END:VEVENT
END:VCALENDAR