BEGIN:VCALENDAR
VERSION:2.0
PRODID:-//ExpressionEngine Easy iCalendar plugin//NONSGML v2.0.0//EN
X-WR-TIMEZONE:America/Chicago
X-WR-CALNAME:Upcoming Auctions
BEGIN:VEVENT
UID:123190
DTSTAMP:20240702T173000
DTSTART:20240702T173000
DTEND:20240702T183000
SUMMARY:ESTATE AUCTION
LOCATION:6515 NW Quail Run Drive\, Parkville\, MO 64152\, US
DESCRIPTION:Larry "L.G" Green Estate | Furniture\, Collectibles\, Tools\, H
 ome Decor\, Household Goods\, & Much More!
URL:https://www.auctionskc.com/auctions/detail/bw123190
SEQUENCE:1
END:VEVENT
END:VCALENDAR