BEGIN:VCALENDAR
VERSION:2.0
PRODID:-//ExpressionEngine Easy iCalendar plugin//NONSGML v2.0.0//EN
X-WR-TIMEZONE:America/Chicago
X-WR-CALNAME:Upcoming Auctions
BEGIN:VEVENT
UID:123525
DTSTAMP:20240712T160000
DTSTART:20240712T160000
DTEND:20240712T170000
SUMMARY:ESTATE AUCTION
LOCATION:26520 S. Brush College Road\, Harrisonville\, MO 64701\, US
DESCRIPTION:Melvin Beach Estate | Vehicle\, Firearms\, Collectibles\, Jewel
 ry\, Furniture\, Tools\, Farm Equipment\, Yard Art\, Home Decor\, 
 Household Goods\, & Much More!
URL:https://www.auctionskc.com/auctions/detail/bw123525
SEQUENCE:1
END:VEVENT
END:VCALENDAR