BEGIN:VCALENDAR
VERSION:2.0
PRODID:-//ExpressionEngine Easy iCalendar plugin//NONSGML v2.0.0//EN
X-WR-TIMEZONE:America/Chicago
X-WR-CALNAME:Upcoming Auctions
BEGIN:VEVENT
UID:123562
DTSTAMP:20240714T110000
DTSTART:20240714T110000
DTEND:20240714T120000
SUMMARY:REAL ESTATE & PERSONAL PROPERTY AUCTION
LOCATION:1229 W. White Oak Street\, Independence\, MO 64050\, US
DESCRIPTION:Mary Elizabeth Swayze Bunten Estate | Real Estate\, Vehicle\, 
 Collectibles\, Jewelry\, Vintage\, Furniture\, Tools\, Appliances
 \, Home Decor\, Household Goods\, & Much More!
URL:https://www.auctionskc.com/auctions/detail/bw123562
SEQUENCE:1
END:VEVENT
END:VCALENDAR