BEGIN:VCALENDAR
VERSION:2.0
PRODID:-//ExpressionEngine Easy iCalendar plugin//NONSGML v2.0.0//EN
X-WR-TIMEZONE:America/Chicago
X-WR-CALNAME:Upcoming Auctions
BEGIN:VEVENT
UID:123937
DTSTAMP:20240716T173000
DTSTART:20240716T173000
DTEND:20240716T183000
SUMMARY:ESTATE AUCTION
LOCATION:5823 Holmes Street\, Kansas City\, MO 64110\, US
DESCRIPTION:Estate of Kevin Richard Miller | Collectibles\, Furniture\, To
 ols\, Outdoor Goods\, Home Decor\, Household Goods\, & Much More
 !
URL:https://www.auctionskc.com/auctions/detail/bw123937
SEQUENCE:1
END:VEVENT
END:VCALENDAR