BEGIN:VCALENDAR
VERSION:2.0
PRODID:-//ExpressionEngine Easy iCalendar plugin//NONSGML v2.0.1//EN
X-WR-TIMEZONE:America/Chicago
X-WR-CALNAME:Upcoming Auctions
BEGIN:VEVENT
UID:124433
DTSTAMP:20240725T160000
DTSTART:20240725T160000
DTEND:20240725T170000
SUMMARY:FARM ESTATE AUCTION
LOCATION:635 NW 1601st Road\, Kingsville\, MO 64061\, US
DESCRIPTION:Robert "Bob" S. Harber Estate | ZTR Lawn Mower\, Log Splitter
 \, Sailboat\, Golf Carts\, Collectibles\, Furniture\, Appliances\,
  Yard Art\, Lots of Tools\, Home Decor\, Household Goods\, & Muc
 h More!
URL:https://www.auctionskc.com/auctions/detail/bw124433
SEQUENCE:1
END:VEVENT
END:VCALENDAR